BEGIN:VCALENDAR
VERSION:2.0
PRODID:-//alivemusica - ECPv6.15.17.1//NONSGML v1.0//EN
CALSCALE:GREGORIAN
METHOD:PUBLISH
X-WR-CALNAME:alivemusica
X-ORIGINAL-URL:https://alivemusica.it
X-WR-CALDESC:Eventi per alivemusica
REFRESH-INTERVAL;VALUE=DURATION:PT1H
X-Robots-Tag:noindex
X-PUBLISHED-TTL:PT1H
BEGIN:VTIMEZONE
TZID:Europe/Rome
BEGIN:DAYLIGHT
TZOFFSETFROM:+0100
TZOFFSETTO:+0200
TZNAME:CEST
DTSTART:20240331T010000
END:DAYLIGHT
BEGIN:STANDARD
TZOFFSETFROM:+0200
TZOFFSETTO:+0100
TZNAME:CET
DTSTART:20241027T010000
END:STANDARD
BEGIN:DAYLIGHT
TZOFFSETFROM:+0100
TZOFFSETTO:+0200
TZNAME:CEST
DTSTART:20250330T010000
END:DAYLIGHT
BEGIN:STANDARD
TZOFFSETFROM:+0200
TZOFFSETTO:+0100
TZNAME:CET
DTSTART:20251026T010000
END:STANDARD
BEGIN:DAYLIGHT
TZOFFSETFROM:+0100
TZOFFSETTO:+0200
TZNAME:CEST
DTSTART:20260329T010000
END:DAYLIGHT
BEGIN:STANDARD
TZOFFSETFROM:+0200
TZOFFSETTO:+0100
TZNAME:CET
DTSTART:20261025T010000
END:STANDARD
END:VTIMEZONE
BEGIN:VEVENT
DTSTART;TZID=Europe/Rome:20250628T210000
DTEND;TZID=Europe/Rome:20250628T230000
DTSTAMP:20260421T002546
CREATED:20250603T115155Z
LAST-MODIFIED:20250603T121516Z
UID:13754-1751144400-1751151600@alivemusica.it
SUMMARY:Scene Buffe
DESCRIPTION:Sabato 28 Giugno 2025\, ore 21:00 \nMessa in scena musicale \nGiovani solisti cresciuti alla scuola di A.LI.VE. presentano i capolavori del bel canto italiano. Sotto la guida del maestro Paolo Facincani e la cura vocale del soprano Emma Martellini loro insegnante\, si esibiranno in scene drammatizzate tratte da opere di Cimarosa\, Donizetti\, Mozart e Rossini. Un concerto godibile e divertente adatto a tutte le età in cui la giovinezza degli interpreti rende perfettamente la freschezza di questa musica straordinaria. \nCoordinamento scenico Alfonso De Filippis\nPianoforte Amedeo Salvato\nMaestra di canto lirico Emma Martellini\nDirezione Paolo Facincani\nInterpreti: Maria Vittoria Caputo\, Caruso Carlotta\, Noemi Ceschi\, Zoe Sartori\, Anna Battaglia Vedovato\, Andrea Pimazzoni\, Luca Vettoretto\, Federico Abbiati Fabris\, Riccardo Sartori
URL:https://alivemusica.it/event/scene-buffe/
LOCATION:Casa Madre dell’Opera Don Calabria\, Via S. Zeno in Monte\, 23\, Verona\, VR\, 37129\, Italy
ATTACH;FMTTYPE=image/jpeg:https://alivemusica.it/wp-content/uploads/2025/06/SceneBuffe_SITO_InChVv25.jpg
END:VEVENT
BEGIN:VEVENT
DTSTART;TZID=Europe/Rome:20250627T200000
DTEND;TZID=Europe/Rome:20250627T230000
DTSTAMP:20260421T002546
CREATED:20250603T120656Z
LAST-MODIFIED:20250606T073141Z
UID:13772-1751054400-1751065200@alivemusica.it
SUMMARY:Ragazzi all’Opera
DESCRIPTION:Venerdì 27 Giugno 2025\, ore 20:00 \nConcerto di musica lirica \nUn coro di voci bianche che canta la lirica? Il nostro lo fa da anni! Quaranta bambini che cantano Nabucco\, Carmen\, Aida\, Turandot sia nelle parti dedicate a loro dai compositori stessi\, sia grazie alle trascrizioni del Maestro Paolo Facincani\, appositamente cucite sulla corposa vocalità areniana dei nostri bambini! Assieme al Coro di Voci Bianche daranno prova delle loro fatiche anche gli allievi di canto lirico di A.LI.VE. che porteranno arie tratte da opere di Bellini\, Donizetti\, Puccini\, Verdi\, Ponchielli e Gluck. \nIl concerto sarà preceduto da una tavola rotonda su il patrimonio materiale e immateriale dell’UNESCO e le giovani generazioni\, con la partecipazione del Comandante del Nucleo Carabinieri Tutela Patrimonio Culturale di Venezia\, della Direttrice dell’ufficio per i Beni Culturali Ecclesiastici della Diocesi di Verona e l’Assessore alla Sicurezza e Legalità del Comune di Verona.
URL:https://alivemusica.it/event/ragazzi-allopera-4/
LOCATION:Casa Madre dell’Opera Don Calabria\, Via S. Zeno in Monte\, 23\, Verona\, VR\, 37129\, Italy
ATTACH;FMTTYPE=image/jpeg:https://alivemusica.it/wp-content/uploads/2025/06/RagazziAllOpera_SITO_InChVv25.jpg
END:VEVENT
BEGIN:VEVENT
DTSTART;TZID=Europe/Rome:20250621T210000
DTEND;TZID=Europe/Rome:20250621T230000
DTSTAMP:20260421T002546
CREATED:20250603T121021Z
LAST-MODIFIED:20250603T121501Z
UID:13780-1750539600-1750546800@alivemusica.it
SUMMARY:In cima non ci sono fiori
DESCRIPTION:Sabato 21 Giugno 2025\, ore 21:00 \nMessa in scena musicale \nGiovani solisti cresciuti alla scuola di A.LI.VE. presentano i capolavori del bel canto italiano. Sotto la guida del maestro Paolo Facincani e la cura vocale del soprano Emma Martellini loro insegnante\, si esibiranno in scene drammatizzate tratte da opere di Cimarosa\, Donizetti\, Mozart e Rossini. Un concerto godibile e divertente adatto a tutte le età in cui la giovinezza degli interpreti rende perfettamente la freschezza di questa musica straordinaria. \nCoordinamento scenico Alfonso De Filippis\nPianoforte Amedeo Salvato\nMaestra di canto lirico Emma Martellini\nDirezione Paolo Facincani\nInterpreti: Maria Vittoria Caputo\, Caruso Carlotta\, Noemi Ceschi\, Zoe Sartori\, Anna Battaglia Vedovato\, Andrea Pimazzoni\, Luca Vettoretto\, Federico Abbiati Fabris\, Riccardo Sartori
URL:https://alivemusica.it/event/in-cima-non-ci-sono-fiori-2/
LOCATION:Casa Madre dell’Opera Don Calabria\, Via S. Zeno in Monte\, 23\, Verona\, VR\, 37129\, Italy
ATTACH;FMTTYPE=image/jpeg:https://alivemusica.it/wp-content/uploads/2025/06/InCima_SITO_InChVv25.jpg
END:VEVENT
BEGIN:VEVENT
DTSTART;TZID=Europe/Rome:20250620T210000
DTEND;TZID=Europe/Rome:20250620T230000
DTSTAMP:20260421T002546
CREATED:20250603T121401Z
LAST-MODIFIED:20250603T121603Z
UID:13783-1750453200-1750460400@alivemusica.it
SUMMARY:Pangea - Quando arriva il mare
DESCRIPTION:Venerdì 20 Giugno 2025\, ore 21:00 \nReading teatrale originale \nDrammaturgia Elisa Ciofini\nRegia Giada Fasoli\nChitarra Stefano D’amicis\nInterprete Giada Fasoli \nl’idea di un continente unitario\, la Pangea\, ripensata come un Eden\, viene proposta in questo spettacolo come un ventre in cui ogni conflitto diventa risolvibile e solo quando quest’unità si rompe e le terre si separano\, arriva il mare e con esso i problemi. Solo allora iniziano le avventure\, nel bene e nel male\, solo allora si impone il bisogno di vincere ogni paura dell’acqua e nasce il bisogno di nuotare\, di crescere\, di diventare adulti\, ma cosa significa diventare adulti oggi? Dalle pagine di diario di una ragazza che sta perdendo la madre a causa di una malattia degenerativa\, i ricordi e le incertezze si rannuvolano sopra la ricerca di una risposta a quella domanda. \n 
URL:https://alivemusica.it/event/pangea-quando-arriva-il-mare/
LOCATION:Casa Madre dell’Opera Don Calabria\, Via S. Zeno in Monte\, 23\, Verona\, VR\, 37129\, Italy
ATTACH;FMTTYPE=image/jpeg:https://alivemusica.it/wp-content/uploads/2025/06/Pangea_SITO_InChVv25.jpg
END:VEVENT
BEGIN:VEVENT
DTSTART;TZID=Europe/Rome:20250619T210000
DTEND;TZID=Europe/Rome:20250619T230000
DTSTAMP:20260421T002546
CREATED:20250603T122922Z
LAST-MODIFIED:20250619T071550Z
UID:13787-1750366800-1750374000@alivemusica.it
SUMMARY:Arie da baule\, musique à la carte
DESCRIPTION:Giovedì 19 Giugno 2025\, ore 21:00 \nConcerto di musica lirica \nEcco un baule pieno di bel canto pronto per essere scoperchiato! A proporvi un format antico quanto l’opera ci pensano i nostri allievi solisti della classe di canto lirico. Verrà fornito al pubblico un elenco di arie da salotto dal quale si potrà scegliere cosa ascoltare\, segnandolo su di un apposito menù musicale e i nostri allievi canteranno ciò che il pubblico avrà scelto\, proprio come in un ristorante musicale. \nMusiche di Vincenzo Bellini\, Gaetano Donizetti\, Giuseppe Verdi\, Francesco Paolo Tosti. \nAllievi di canto lirico: Maria Vittoria Caputo\, Caruso Carlotta\, Noemi Ceschi\, Zoe Sartori\, Andrea Pimazzoni \n 
URL:https://alivemusica.it/event/arie-da-baule-musique-a-la-carte/
LOCATION:Casa Madre dell’Opera Don Calabria\, Via S. Zeno in Monte\, 23\, Verona\, VR\, 37129\, Italy
ATTACH;FMTTYPE=image/jpeg:https://alivemusica.it/wp-content/uploads/2025/06/ArieDaBaule_SITO_InChVv25.jpg
END:VEVENT
BEGIN:VEVENT
DTSTART;TZID=Europe/Rome:20250618T210000
DTEND;TZID=Europe/Rome:20250618T230000
DTSTAMP:20260421T002546
CREATED:20250603T123216Z
LAST-MODIFIED:20250603T123336Z
UID:13790-1750280400-1750287600@alivemusica.it
SUMMARY:Incontri impossibili
DESCRIPTION:Mercoledì 18 Giugno 2025\, ore 21:00 \nSpettacolo teatrale \nCinque grandi nomi del nostro immaginario\, cinque personalità a cui chiedere di tutto e da cui aspettarsi di tutto: Muzio Scevola\, Francesca da Rimini\, Sigmund Freud\, Beatrice Portinari e Dio! Questi personaggi saranno interpellati ed evocati dagli attori della piccola compagnia creata appositamente per riportare in scena questa perla teatrale. Condotti da Fiorenza Brogi\, gli attori si muoveranno sul tracciato letterario delle “Interviste impossibili” uno dei capolavori teatrali del secondo dopoguerra italiano\, scritto a più mani dalle maggiori penne del Novecento italiano. \nFiorenza Brogi intervistatrice\nLorenzo Pigozzo Muzio Scevola\nPaola Lacaprara Francesca da Rimini e Beatrice Portinari\nAndrea Pimazzoni Sigmund Freud\nLorenzo Facincani Dio
URL:https://alivemusica.it/event/incontri-impossibili/
LOCATION:Casa Madre dell’Opera Don Calabria\, Via S. Zeno in Monte\, 23\, Verona\, VR\, 37129\, Italy
ATTACH;FMTTYPE=image/jpeg:https://alivemusica.it/wp-content/uploads/2025/06/IncontriImpossibili_SITO_InChVv25.jpg
END:VEVENT
BEGIN:VEVENT
DTSTART;TZID=Europe/Rome:20250615T210000
DTEND;TZID=Europe/Rome:20250615T230000
DTSTAMP:20260421T002546
CREATED:20250603T123442Z
LAST-MODIFIED:20250603T123617Z
UID:13794-1750021200-1750028400@alivemusica.it
SUMMARY:Battisti & Battiato
DESCRIPTION:Domenica 15 Giugno 2025\, ore 21:00 \nConcerto di musica pop \nConcerto del Coro Giovanile A.LI.VE. su due giganti della musica italiana. Le più belle canzoni di Lucio Battisti e Franco Battiato\, arrangiate appositamente dal M° Paolo Pachera\, verranno interpretate dal Coro Giovanile di A.LI.VE. per vivere una serata preziosa ed evocativa\, in cui chiudere gli occhi e lasciarsi carezzare dalle loro indimenticabili melodie. \nCoro Giovanile A.LI.VE.\nPaolo Facincani direttore\nLeonardo Morelato pianoforte\nMichele Pachera batteria\nMarco Pachera basso elettrico
URL:https://alivemusica.it/event/battisti-battiato/
LOCATION:Casa Madre dell’Opera Don Calabria\, Via S. Zeno in Monte\, 23\, Verona\, VR\, 37129\, Italy
ATTACH;FMTTYPE=image/jpeg:https://alivemusica.it/wp-content/uploads/2025/06/BattistiBattiato_SITO_InChVv25.jpg
END:VEVENT
END:VCALENDAR